BEGIN:VCALENDAR
VERSION:2.0
PRODID:-//International Therapy Barcelona - ECPv6.8.3//NONSGML v1.0//EN
CALSCALE:GREGORIAN
METHOD:PUBLISH
X-ORIGINAL-URL:https://www.internationaltherapybcn.com
X-WR-CALDESC:Events for International Therapy Barcelona
REFRESH-INTERVAL;VALUE=DURATION:PT1H
X-Robots-Tag:noindex
X-PUBLISHED-TTL:PT1H
BEGIN:VTIMEZONE
TZID:UTC
BEGIN:STANDARD
TZOFFSETFROM:+0000
TZOFFSETTO:+0000
TZNAME:UTC
DTSTART:20200101T000000
END:STANDARD
END:VTIMEZONE
BEGIN:VEVENT
DTSTART;TZID=UTC:20200717T110000
DTEND;TZID=UTC:20200801T160000
DTSTAMP:20260421T134009
CREATED:20160310T094906Z
LAST-MODIFIED:20181026T113811Z
UID:217-1594983600-1596297600@www.internationaltherapybcn.com
SUMMARY:Meet Judie Larson
DESCRIPTION:Etiam vitae leo et diam pellentesque porta. Sed eleifend ultricies risus\, vel rutrum erat commodo ut. Praesent finibus congue euismod. Nullam scelerisque massa vel augue placerat\, a tempor sem egestas. Curabitur placerat finibus lacus. Quisque at vehicula magna\, quis fringilla sapien. Ut interdum dictum ultricies. Aliquam facilisis purus non dui scelerisque\, bibendum vestibulum risus fermentum. Nam eget efficitur felis. Sed sollicitudin justo ut libero viverra\, sed efficitur erat finibus. Mauris nunc neque\, elementum id dignissim ut\, posuere sit amet dolor. Aliquam turpis neque\, mollis eu pharetra et\, placerat et arcu. Proin orci eros\, dapibus in auctor ac\, elementum a justo. Fusce varius eu nunc iaculis auctor. \nVivamus posuere tellus ac fringilla maximus. Maecenas ut diam nibh. Suspendisse venenatis et dolor sit amet malesuada. Cras a nisl in purus vestibulum facilisis. Aenean blandit\, lectus in dapibus interdum\, magna mauris fermentum risus\, nec iaculis ex quam ultricies tellus. Sed nec convallis ex\, nec tristique nisi. Aenean semper tempor vehicula. Duis id mi tristique\, pulvinar neque at\, lobortis tortor.
URL:https://www.internationaltherapybcn.com/event/meet-judie-larson/
LOCATION:Life Coach Center\, 123 New Lenox\, Chicago\, IL\, 60606\, United States
ATTACH;FMTTYPE=image/jpeg:https://www.internationaltherapybcn.com/wp-content/uploads/2016/03/event-8.jpg
END:VEVENT
END:VCALENDAR